BEGIN:VCALENDAR
VERSION:2.0
PRODID:-//Leśniczówka Rock&#039;n&#039;Roll Cafe - ECPv6.8.1//NONSGML v1.0//EN
CALSCALE:GREGORIAN
METHOD:PUBLISH
X-WR-CALNAME:Leśniczówka Rock&#039;n&#039;Roll Cafe
X-ORIGINAL-URL:https://lesniczowka.art.pl
X-WR-CALDESC:Events for Leśniczówka Rock&#039;n&#039;Roll Cafe
REFRESH-INTERVAL;VALUE=DURATION:PT1H
X-Robots-Tag:noindex
X-PUBLISHED-TTL:PT1H
BEGIN:VTIMEZONE
TZID:Europe/Warsaw
BEGIN:DAYLIGHT
TZOFFSETFROM:+0100
TZOFFSETTO:+0200
TZNAME:CEST
DTSTART:20230326T010000
END:DAYLIGHT
BEGIN:STANDARD
TZOFFSETFROM:+0200
TZOFFSETTO:+0100
TZNAME:CET
DTSTART:20231029T010000
END:STANDARD
END:VTIMEZONE
BEGIN:VEVENT
DTSTART;TZID=Europe/Warsaw:20231208T190000
DTEND;TZID=Europe/Warsaw:20231208T233000
DTSTAMP:20260424T050837
CREATED:20221130T141306Z
LAST-MODIFIED:20221130T141342Z
UID:1746-1702062000-1702078200@lesniczowka.art.pl
SUMMARY:Still Of The Night vol. 6
DESCRIPTION:You wanted the best – you got the best!”\nSzósta edycja Still Of The Night – 80s Rock Live Show powraca do Chorzowa!\n\nStill Of The Night – ’80s Rock Live Show to jedyny w Polsce tribute dla zespołów rockowych i hair-metalowych z lat ’80.\nTylko u nas usłyszysz zadziorne riffy Def Leppard\, Van Halen czy KISS\, poczujesz energię w stylu Motley Crue\, będziesz skakać pod sceną w rytm takich hitów jak “Final Countdown”\, “Jump” czy “Livin’ On a Prayer” – a to wszystko w 100% na żywo!\nJeśli lubisz prawdziwe RETRO SHOW\, tęsknisz za natapirowanymi czuprynami i legginsami w panterkę – TA IMPREZA JEST DLA CIEBIE!\n\n📣 Skład zespołu Still Of The Night:\n⭐ Kasia Bieńkowska (BlackKay\, ex-White Highway) – wokal/organizacja;\n⭐ Adam Nawara (Cry Baby) – wokal;\n⭐ Maciej Wróblewski (Internal Quiet) – wokal;\n⭐ Paul Polish Gromadzki (BlackKay\, ex-White Highway) – gitara;\n⭐ Mirek Skorupski (Pinn Dropp\, ex-White Highway) – klawisze;\n⭐ Dawid Pięta (Madrise\, Made in Warsaw) – gitara;\n⭐ Jan Radosz (Scream Maker) – bas;\n⭐ Michał Tobjasz (Sunsmoke\, Chaostream\, BlackKay) – perkusja.\n\n Więcej szczegółów + informacja o biletach wkrótce!
URL:https://lesniczowka.art.pl/event/still-of-the-night-vol-6/
LOCATION:Leśniczówka Rock’n’Roll Cafe\, Aleja Muzyków 1\, Chorzów\, Śląskie\, 41-500\, Poland
ATTACH;FMTTYPE=image/jpeg:https://cdn.lesniczowka.art.pl/wordpress/2022/11/Still-Of-The-Night-vol.-6.jpg
END:VEVENT
END:VCALENDAR