BEGIN:VCALENDAR
VERSION:2.0
PRODID:-//Leśniczówka Rock&#039;n&#039;Roll Cafe - ECPv6.8.1//NONSGML v1.0//EN
CALSCALE:GREGORIAN
METHOD:PUBLISH
X-WR-CALNAME:Leśniczówka Rock&#039;n&#039;Roll Cafe
X-ORIGINAL-URL:https://lesniczowka.art.pl
X-WR-CALDESC:Events for Leśniczówka Rock&#039;n&#039;Roll Cafe
REFRESH-INTERVAL;VALUE=DURATION:PT1H
X-Robots-Tag:noindex
X-PUBLISHED-TTL:PT1H
BEGIN:VTIMEZONE
TZID:Europe/Warsaw
BEGIN:DAYLIGHT
TZOFFSETFROM:+0100
TZOFFSETTO:+0200
TZNAME:CEST
DTSTART:20260329T010000
END:DAYLIGHT
BEGIN:STANDARD
TZOFFSETFROM:+0200
TZOFFSETTO:+0100
TZNAME:CET
DTSTART:20261025T010000
END:STANDARD
END:VTIMEZONE
BEGIN:VEVENT
DTSTART;TZID=Europe/Warsaw:20260426T190000
DTEND;TZID=Europe/Warsaw:20260426T190000
DTSTAMP:20260426T014618
CREATED:20260316T145126Z
LAST-MODIFIED:20260316T145126Z
UID:3668-1777230000-1777230000@lesniczowka.art.pl
SUMMARY:Closterkeller + Blacklight
DESCRIPTION:CLOSTERKELLER \nNa scenie – pełna energia\, klimat i muzyka\, którą fani znają i cenią od lat. Pod sceną – wspaniała zabawa i wielkie emocje.Oprócz utworów z nowego albumu będzie można usłyszeć także te do tej pory najbardziej znane i lubiane przez fanów.ZAPRASZAMY!!! \n————————————BLACKLIGHTProgresywny metal przepełniony emocjami i ociekający klimatem\, gdzie wokalne partie przeplatane są przeszywającymi gitarowymi solówkami\, gdzie bas i perkusja łamią rytm nieoczywistymi zagraniami\, gdzie ambient i efekty dopełniają całości i pozwalają zatracić się w kompozycjach. Przyjdź\, posłuchaj i przekonaj się\, że porównania do legend\, takich jak Opeth i Katatonia nie są bezasadne.\nhttps://youtu.be/wXLEoXSfHKI?si=6y8jSw47x2-hiDFmhttps://youtu.be/fpOJA9njiSM?si=kRmlmXLgyIrizPut\nhttps://www.facebook.com/BlackLight.Polska_____________________________\nBramki- godz.18:00Start- godz.19:00\nBilety: 70 zł\n\nW klubie w dniu koncertu 85 zł (płatność gotówką)ZAPRASZAMY
URL:https://lesniczowka.art.pl/event/closterkeller-blacklight/
LOCATION:Leśniczówka Rock’n’Roll Cafe\, Aleja Muzyków 1\, Chorzów\, Śląskie\, 41-500\, Poland
ATTACH;FMTTYPE=image/jpeg:https://cdn.lesniczowka.art.pl/wordpress/2026/03/closter.jpg
END:VEVENT
END:VCALENDAR