BEGIN:VCALENDAR
VERSION:2.0
PRODID:-//Leśniczówka Rock&#039;n&#039;Roll Cafe - ECPv6.8.1//NONSGML v1.0//EN
CALSCALE:GREGORIAN
METHOD:PUBLISH
X-WR-CALNAME:Leśniczówka Rock&#039;n&#039;Roll Cafe
X-ORIGINAL-URL:https://lesniczowka.art.pl
X-WR-CALDESC:Events for Leśniczówka Rock&#039;n&#039;Roll Cafe
REFRESH-INTERVAL;VALUE=DURATION:PT1H
X-Robots-Tag:noindex
X-PUBLISHED-TTL:PT1H
BEGIN:VTIMEZONE
TZID:Europe/Warsaw
BEGIN:DAYLIGHT
TZOFFSETFROM:+0100
TZOFFSETTO:+0200
TZNAME:CEST
DTSTART:20260329T010000
END:DAYLIGHT
BEGIN:STANDARD
TZOFFSETFROM:+0200
TZOFFSETTO:+0100
TZNAME:CET
DTSTART:20261025T010000
END:STANDARD
END:VTIMEZONE
BEGIN:VEVENT
DTSTART;TZID=Europe/Warsaw:20260425T193000
DTEND;TZID=Europe/Warsaw:20260425T193000
DTSTAMP:20260425T013134
CREATED:20260316T143823Z
LAST-MODIFIED:20260316T143823Z
UID:3657-1777145400-1777145400@lesniczowka.art.pl
SUMMARY:Koniec Świata
DESCRIPTION:Szczegóły wydarzenia:Data – 25.04.2026bramki – godz 18:00start koncertu: 19:30zakończenie koncertu: 22:00Bilety:1 pula – do 14.03.2026 – cena 59 zł2 pula od 14.03 do 24.04 – cena 79 zł Bilet dla studentów i młodzieży uczącej się – cena stała 50 zł (przy wejściu należy okazać legitymację)
URL:https://lesniczowka.art.pl/event/koniec-swiata-5/
LOCATION:Leśniczówka Rock’n’Roll Cafe\, Aleja Muzyków 1\, Chorzów\, Śląskie\, 41-500\, Poland
ATTACH;FMTTYPE=image/jpeg:https://cdn.lesniczowka.art.pl/wordpress/2026/03/koniec.jpg
END:VEVENT
BEGIN:VEVENT
DTSTART;TZID=Europe/Warsaw:20260425T220000
DTEND;TZID=Europe/Warsaw:20260425T220000
DTSTAMP:20260425T013134
CREATED:20260316T144158Z
LAST-MODIFIED:20260316T144158Z
UID:3660-1777154400-1777154400@lesniczowka.art.pl
SUMMARY:ROCKOTEKA + OGNISKO Ludzi Leśniczówki
DESCRIPTION:ROCKOTEKA + OGNISKO w Leśniczówce \nZapraszamy na wyjątkowy wieczór pełen rockowej energii i klimatu ogniska!\nCzeka na Was: Rockoteka – najlepsze rockowe klasyki i mocne brzmienia do zabawy Ognisko – prawdziwy klimat leśnego wieczoru Grill – coś pysznego na ciepło\nZabierz znajomych\, dobry humor i wpadajcie spędzić razem rockowy wieczór przy ogniu.\n\nDo zobaczenia przy ognisku! \n#rockoteka #rockparty #rocknight #ognisko #ogniskowlesie #grill #impreza #imprezawweekend #weekend #weekendowaimpreza #dobramuzyka #rockandroll #rockklimat #spotkaniezprzyjaciolmi #wieczorprzyognisku #lesniczowka #rockandrollcafe #gdzieimpreza #cowweekend #imprezawokolicy
URL:https://lesniczowka.art.pl/event/rockoteka-ognisko-ludzi-lesniczowki/
LOCATION:Leśniczówka Rock’n’Roll Cafe\, Aleja Muzyków 1\, Chorzów\, Śląskie\, 41-500\, Poland
ATTACH;FMTTYPE=image/jpeg:https://cdn.lesniczowka.art.pl/wordpress/2026/03/ognisko-25.jpg
END:VEVENT
END:VCALENDAR